BEGIN:VCALENDAR
VERSION:2.0
PRODID:-//Hiram Santos - ECPv5.12.3//NONSGML v1.0//EN
CALSCALE:GREGORIAN
METHOD:PUBLISH
X-WR-CALNAME:Hiram Santos
X-ORIGINAL-URL:http://www.hiramsantos.ch
X-WR-CALDESC:Events for Hiram Santos
BEGIN:VTIMEZONE
TZID:Europe/Zurich
BEGIN:DAYLIGHT
TZOFFSETFROM:+0100
TZOFFSETTO:+0200
TZNAME:CEST
DTSTART:20240331T010000
END:DAYLIGHT
BEGIN:STANDARD
TZOFFSETFROM:+0200
TZOFFSETTO:+0100
TZNAME:CET
DTSTART:20241027T010000
END:STANDARD
END:VTIMEZONE
BEGIN:VEVENT
DTSTART;TZID=Europe/Zurich:20240929T160000
DTEND;TZID=Europe/Zurich:20240929T170000
DTSTAMP:20260423T175842
CREATED:20240825T172304Z
LAST-MODIFIED:20241001T163602Z
UID:1050-1727625600-1727629200@www.hiramsantos.ch
SUMMARY:J. S. Bach Kantaten BWV 130
DESCRIPTION:Vokal- und Instrumentalensemble «Camerata St. Michael» \nOrgel: Freddie James \nGesamtleitung: Philipp Emanuel Gietl
URL:http://www.hiramsantos.ch/single-venue/j-s-bach-kantaten-bwv-130-bwv-21-und-bwv-140/
LOCATION:Kirche St. Oswald\, Kirchenstrasse\, Zug\, Zug\, 6300\, Switzerland
CATEGORIES:Timpani & Percussion
END:VEVENT
END:VCALENDAR