BEGIN:VCALENDAR
VERSION:2.0
PRODID:-//Hiram Santos - ECPv5.12.3//NONSGML v1.0//EN
CALSCALE:GREGORIAN
METHOD:PUBLISH
X-WR-CALNAME:Hiram Santos
X-ORIGINAL-URL:http://www.hiramsantos.ch
X-WR-CALDESC:Events for Hiram Santos
BEGIN:VTIMEZONE
TZID:Europe/Zurich
BEGIN:DAYLIGHT
TZOFFSETFROM:+0100
TZOFFSETTO:+0200
TZNAME:CEST
DTSTART:20230326T010000
END:DAYLIGHT
BEGIN:STANDARD
TZOFFSETFROM:+0200
TZOFFSETTO:+0100
TZNAME:CET
DTSTART:20231029T010000
END:STANDARD
END:VTIMEZONE
BEGIN:VEVENT
DTSTART;TZID=Europe/Zurich:20230924T080000
DTEND;TZID=Europe/Zurich:20230924T160000
DTSTAMP:20260423T195245
CREATED:20230906T154922Z
LAST-MODIFIED:20230906T154922Z
UID:779-1695542400-1695571200@www.hiramsantos.ch
SUMMARY:Philipp Heinrich Erlebach (1657 - 1714) - Deutsche Kantaten
DESCRIPTION:Vokal- und Instrumental Ensemble Ad petram \nDir.: Christoph Anzböck
URL:http://www.hiramsantos.ch/single-venue/philipp-heinrich-erlebach-1657-1714-deutsche-kantaten/
LOCATION:Klosterkirche Mariastein\, Klosterplatz 1\, Metzerlen-Mariastein\, Solothurn\, 4115\, Switzerland
CATEGORIES:Timpani & Percussion
END:VEVENT
END:VCALENDAR